BEGIN:VCALENDAR
VERSION:2.0
PRODID:-//Utah Restaurant Association - ECPv6.15.20//NONSGML v1.0//EN
CALSCALE:GREGORIAN
METHOD:PUBLISH
X-ORIGINAL-URL:https://utahrestaurantassociation.org
X-WR-CALDESC:Events for Utah Restaurant Association
REFRESH-INTERVAL;VALUE=DURATION:PT1H
X-Robots-Tag:noindex
X-PUBLISHED-TTL:PT1H
BEGIN:VTIMEZONE
TZID:America/Denver
BEGIN:DAYLIGHT
TZOFFSETFROM:-0700
TZOFFSETTO:-0600
TZNAME:MDT
DTSTART:20250309T090000
END:DAYLIGHT
BEGIN:STANDARD
TZOFFSETFROM:-0600
TZOFFSETTO:-0700
TZNAME:MST
DTSTART:20251102T080000
END:STANDARD
BEGIN:DAYLIGHT
TZOFFSETFROM:-0700
TZOFFSETTO:-0600
TZNAME:MDT
DTSTART:20260308T090000
END:DAYLIGHT
BEGIN:STANDARD
TZOFFSETFROM:-0600
TZOFFSETTO:-0700
TZNAME:MST
DTSTART:20261101T080000
END:STANDARD
BEGIN:DAYLIGHT
TZOFFSETFROM:-0700
TZOFFSETTO:-0600
TZNAME:MDT
DTSTART:20270314T090000
END:DAYLIGHT
BEGIN:STANDARD
TZOFFSETFROM:-0600
TZOFFSETTO:-0700
TZNAME:MST
DTSTART:20271107T080000
END:STANDARD
END:VTIMEZONE
BEGIN:VEVENT
DTSTART;TZID=America/Denver:20260428T183000
DTEND;TZID=America/Denver:20260428T203000
DTSTAMP:20260423T003342
CREATED:20260207T143940Z
LAST-MODIFIED:20260422T073904Z
UID:10000265-1777401000-1777408200@utahrestaurantassociation.org
SUMMARY:Annual URA Industry Awards Gala
DESCRIPTION:The Annual Utah Restaurant Association Restaurant Industry Awards Gala\, held in collaboration with the Utah ProStart Student Awards\, is a celebration of excellence across Utah’s restaurant\, food\, and hospitality community; today’s leaders and tomorrow’s rising stars alike. \nThis special evening honors the individuals and organizations who make Utah dining exceptional\, while also recognizing the next generation of passionate restaurant professionals entering the industry. Together\, we celebrate innovation\, dedication\, and the shared commitment that fuels our vibrant hospitality community. \nAwards are peer-nominated\, meaning nominees are put forward by fellow industry professionals—those who truly understand the work\, the challenges\, and the wins. Nominations are open to all members of the industry (URA membership is not required\, though always appreciated). From quick service and fast-casual to casual dining and fine dining\, every segment of the industry has a seat at the table and a reason to be celebrated. \nThe Utah Restaurant Association is committed to making Utah dining a destination. The URA gala brings together colleagues from every corner of the industry and community to celebrate one another and honor the collective contributions that strengthen us all. We proudly embrace the belief that a rising tide lifts all ships and that there is a place for everyone at our table. We relish the opportunity to recognize everyone who contributes to making our industry better and brighter. \nHeld each spring in April or May\, the Awards Gala is one of the most anticipated restaurant industry events of the year and typically sells out. Nominations for this year’s awards are now open. Please find the nomination form here. \nA variety of sponsorship opportunities are available\, including Presenting\, Gold\, Silver\, and Table Sponsorships. If you are interested in sponsoring this event\, please contact us at info@utahrestaurantassociation.org. \nTickets may be purchased individually or as a table sponsorship below. Once your purchase is complete\, our team will reach out to collect your company logo. For larger parties wishing to be seated together\, we recommend purchasing a table sponsorship; however\, we will do our best to accommodate seating requests whenever possible. \nWhen purchasing tickets\, please be sure to note any dietary restrictions. We look forward to celebrating your hard work\, creativity\, and contributions in spring 2026. Time\, date\, and location coming soon. \nGala Nominations
URL:https://utahrestaurantassociation.org/event/ura-2025-gala-individual-ticket/
LOCATION:The Garden Place at Heritage Park\, 2601 Sunnyside Ave S\, Salt Lake City\, UT\, 84108\, United States
CATEGORIES:Gala
ATTACH;FMTTYPE=image/png:https://utahrestaurantassociation.org/wp-content/uploads/2026/02/Screenshot-2026-02-09-at-11.18.21-AM.png
END:VEVENT
END:VCALENDAR