BEGIN:VCALENDAR
VERSION:2.0
PRODID:-//Utah Restaurant Association - ECPv6.15.20//NONSGML v1.0//EN
CALSCALE:GREGORIAN
METHOD:PUBLISH
X-ORIGINAL-URL:https://utahrestaurantassociation.org
X-WR-CALDESC:Events for Utah Restaurant Association
REFRESH-INTERVAL;VALUE=DURATION:PT1H
X-Robots-Tag:noindex
X-PUBLISHED-TTL:PT1H
BEGIN:VTIMEZONE
TZID:America/Denver
BEGIN:DAYLIGHT
TZOFFSETFROM:-0700
TZOFFSETTO:-0600
TZNAME:MDT
DTSTART:20250309T090000
END:DAYLIGHT
BEGIN:STANDARD
TZOFFSETFROM:-0600
TZOFFSETTO:-0700
TZNAME:MST
DTSTART:20251102T080000
END:STANDARD
BEGIN:DAYLIGHT
TZOFFSETFROM:-0700
TZOFFSETTO:-0600
TZNAME:MDT
DTSTART:20260308T090000
END:DAYLIGHT
BEGIN:STANDARD
TZOFFSETFROM:-0600
TZOFFSETTO:-0700
TZNAME:MST
DTSTART:20261101T080000
END:STANDARD
BEGIN:DAYLIGHT
TZOFFSETFROM:-0700
TZOFFSETTO:-0600
TZNAME:MDT
DTSTART:20270314T090000
END:DAYLIGHT
BEGIN:STANDARD
TZOFFSETFROM:-0600
TZOFFSETTO:-0700
TZNAME:MST
DTSTART:20271107T080000
END:STANDARD
END:VTIMEZONE
BEGIN:VEVENT
DTSTART;TZID=America/Denver:20260429T090000
DTEND;TZID=America/Denver:20260429T150000
DTSTAMP:20260423T003339
CREATED:20260403T114153Z
LAST-MODIFIED:20260422T214435Z
UID:10002964-1777453200-1777474800@utahrestaurantassociation.org
SUMMARY:ServSafe Class
DESCRIPTION:Lunch\, training\, exam\, and certificate are included.
URL:https://utahrestaurantassociation.org/event/servsafe-class-4/
LOCATION:Utah Restaurant Association\, 7324 South Union Park Avenue #201\, Midvale\, UT\, 84047\, United States
CATEGORIES:ServSafe Classes
ATTACH;FMTTYPE=image/jpeg:https://utahrestaurantassociation.org/wp-content/uploads/2026/02/serv.jpg
END:VEVENT
BEGIN:VEVENT
DTSTART;TZID=America/Denver:20260506T090000
DTEND;TZID=America/Denver:20260506T150000
DTSTAMP:20260423T003339
CREATED:20260403T114233Z
LAST-MODIFIED:20260422T214604Z
UID:10002965-1778058000-1778079600@utahrestaurantassociation.org
SUMMARY:ServSafe Class
DESCRIPTION:Lunch\, training\, exam\, and certificate are included.
URL:https://utahrestaurantassociation.org/event/servsafe-class-6/
LOCATION:Utah Restaurant Association\, 7324 South Union Park Avenue #201\, Midvale\, UT\, 84047\, United States
CATEGORIES:ServSafe Classes
ATTACH;FMTTYPE=image/jpeg:https://utahrestaurantassociation.org/wp-content/uploads/2026/02/serv.jpg
END:VEVENT
BEGIN:VEVENT
DTSTART;TZID=America/Denver:20260513T090000
DTEND;TZID=America/Denver:20260513T150000
DTSTAMP:20260423T003339
CREATED:20260403T114300Z
LAST-MODIFIED:20260422T225114Z
UID:10002966-1778662800-1778684400@utahrestaurantassociation.org
SUMMARY:ServSafe Class
DESCRIPTION:Lunch\, training\, exam\, and certificate are included.
URL:https://utahrestaurantassociation.org/event/servsafe-class-7/
LOCATION:Utah Restaurant Association\, 7324 South Union Park Avenue #201\, Midvale\, UT\, 84047\, United States
CATEGORIES:ServSafe Classes
ATTACH;FMTTYPE=image/jpeg:https://utahrestaurantassociation.org/wp-content/uploads/2026/02/serv.jpg
END:VEVENT
BEGIN:VEVENT
DTSTART;TZID=America/Denver:20260520T090000
DTEND;TZID=America/Denver:20260520T150000
DTSTAMP:20260423T003339
CREATED:20260403T114326Z
LAST-MODIFIED:20260422T225158Z
UID:10002967-1779267600-1779289200@utahrestaurantassociation.org
SUMMARY:ServSafe Class
DESCRIPTION:Lunch\, training\, exam\, and certificate are included.
URL:https://utahrestaurantassociation.org/event/servsafe-class-8/
LOCATION:Utah Restaurant Association\, 7324 South Union Park Avenue #201\, Midvale\, UT\, 84047\, United States
CATEGORIES:ServSafe Classes
ATTACH;FMTTYPE=image/jpeg:https://utahrestaurantassociation.org/wp-content/uploads/2026/02/serv.jpg
END:VEVENT
BEGIN:VEVENT
DTSTART;TZID=America/Denver:20260527T090000
DTEND;TZID=America/Denver:20260527T150000
DTSTAMP:20260423T003339
CREATED:20260403T114358Z
LAST-MODIFIED:20260422T225221Z
UID:10002968-1779872400-1779894000@utahrestaurantassociation.org
SUMMARY:ServSafe Class
DESCRIPTION:Lunch\, training\, exam\, and certificate are included.
URL:https://utahrestaurantassociation.org/event/servsafe-class-9/
LOCATION:Utah Restaurant Association\, 7324 South Union Park Avenue #201\, Midvale\, UT\, 84047\, United States
CATEGORIES:ServSafe Classes
ATTACH;FMTTYPE=image/jpeg:https://utahrestaurantassociation.org/wp-content/uploads/2026/02/serv.jpg
END:VEVENT
BEGIN:VEVENT
DTSTART;TZID=America/Denver:20260603T090000
DTEND;TZID=America/Denver:20260603T150000
DTSTAMP:20260423T003339
CREATED:20260403T114425Z
LAST-MODIFIED:20260422T225246Z
UID:10002969-1780477200-1780498800@utahrestaurantassociation.org
SUMMARY:ServSafe Class
DESCRIPTION:Lunch\, training\, exam\, and certificate are included.
URL:https://utahrestaurantassociation.org/event/servsafe-class-10/
LOCATION:Utah Restaurant Association\, 7324 South Union Park Avenue #201\, Midvale\, UT\, 84047\, United States
CATEGORIES:ServSafe Classes
ATTACH;FMTTYPE=image/jpeg:https://utahrestaurantassociation.org/wp-content/uploads/2026/02/serv.jpg
END:VEVENT
BEGIN:VEVENT
DTSTART;TZID=America/Denver:20260617T090000
DTEND;TZID=America/Denver:20260617T150000
DTSTAMP:20260423T003339
CREATED:20260403T114652Z
LAST-MODIFIED:20260423T000806Z
UID:10002971-1781686800-1781708400@utahrestaurantassociation.org
SUMMARY:ServSafe Class
DESCRIPTION:Lunch\, training\, exam\, and certificate are included.
URL:https://utahrestaurantassociation.org/event/servsafe-class-12/
LOCATION:Utah Restaurant Association\, 7324 South Union Park Avenue #201\, Midvale\, UT\, 84047\, United States
CATEGORIES:ServSafe Classes
ATTACH;FMTTYPE=image/jpeg:https://utahrestaurantassociation.org/wp-content/uploads/2026/02/serv.jpg
END:VEVENT
BEGIN:VEVENT
DTSTART;TZID=America/Denver:20260624T090000
DTEND;TZID=America/Denver:20260624T150000
DTSTAMP:20260423T003339
CREATED:20260403T114736Z
LAST-MODIFIED:20260423T000828Z
UID:10002972-1782291600-1782313200@utahrestaurantassociation.org
SUMMARY:ServSafe Class
DESCRIPTION:Lunch\, training\, exam\, and certificate are included.
URL:https://utahrestaurantassociation.org/event/servsafe-class-13/
LOCATION:Utah Restaurant Association\, 7324 South Union Park Avenue #201\, Midvale\, UT\, 84047\, United States
CATEGORIES:ServSafe Classes
ATTACH;FMTTYPE=image/jpeg:https://utahrestaurantassociation.org/wp-content/uploads/2026/02/serv.jpg
END:VEVENT
BEGIN:VEVENT
DTSTART;TZID=America/Denver:20260701T090000
DTEND;TZID=America/Denver:20260701T150000
DTSTAMP:20260423T003339
CREATED:20260403T114827Z
LAST-MODIFIED:20260423T001318Z
UID:10002973-1782896400-1782918000@utahrestaurantassociation.org
SUMMARY:ServSafe Class
DESCRIPTION:Lunch\, training\, exam\, and certificate are included.
URL:https://utahrestaurantassociation.org/event/servsafe-class-14/
LOCATION:Utah Restaurant Association\, 7324 South Union Park Avenue #201\, Midvale\, UT\, 84047\, United States
CATEGORIES:ServSafe Classes
ATTACH;FMTTYPE=image/jpeg:https://utahrestaurantassociation.org/wp-content/uploads/2026/02/serv.jpg
END:VEVENT
BEGIN:VEVENT
DTSTART;TZID=America/Denver:20260708T090000
DTEND;TZID=America/Denver:20260708T150000
DTSTAMP:20260423T003339
CREATED:20260403T114908Z
LAST-MODIFIED:20260423T001343Z
UID:10002974-1783501200-1783522800@utahrestaurantassociation.org
SUMMARY:ServSafe Class
DESCRIPTION:Lunch\, training\, exam\, and certificate are included.
URL:https://utahrestaurantassociation.org/event/servsafe-class-15/
LOCATION:Utah Restaurant Association\, 7324 South Union Park Avenue #201\, Midvale\, UT\, 84047\, United States
CATEGORIES:ServSafe Classes
ATTACH;FMTTYPE=image/jpeg:https://utahrestaurantassociation.org/wp-content/uploads/2026/02/serv.jpg
END:VEVENT
BEGIN:VEVENT
DTSTART;TZID=America/Denver:20260710T090000
DTEND;TZID=America/Denver:20260710T150000
DTSTAMP:20260423T003339
CREATED:20260403T112732Z
LAST-MODIFIED:20260423T001355Z
UID:10002960-1783674000-1783695600@utahrestaurantassociation.org
SUMMARY:ServSafe Class
DESCRIPTION:Lunch\, training\, exam\, and certificate are included.
URL:https://utahrestaurantassociation.org/event/servsafe-class-5/
LOCATION:Utah Restaurant Association\, 7324 South Union Park Avenue #201\, Midvale\, UT\, 84047\, United States
CATEGORIES:ServSafe Classes
ATTACH;FMTTYPE=image/jpeg:https://utahrestaurantassociation.org/wp-content/uploads/2026/02/serv.jpg
END:VEVENT
BEGIN:VEVENT
DTSTART;TZID=America/Denver:20260715T090000
DTEND;TZID=America/Denver:20260715T150000
DTSTAMP:20260423T003339
CREATED:20260403T114937Z
LAST-MODIFIED:20260423T001408Z
UID:10002975-1784106000-1784127600@utahrestaurantassociation.org
SUMMARY:ServSafe Class
DESCRIPTION:Lunch\, training\, exam\, and certificate are included.
URL:https://utahrestaurantassociation.org/event/servsafe-class-16/
LOCATION:Utah Restaurant Association\, 7324 South Union Park Avenue #201\, Midvale\, UT\, 84047\, United States
CATEGORIES:ServSafe Classes
ATTACH;FMTTYPE=image/jpeg:https://utahrestaurantassociation.org/wp-content/uploads/2026/02/serv.jpg
END:VEVENT
BEGIN:VEVENT
DTSTART;TZID=America/Denver:20260722T090000
DTEND;TZID=America/Denver:20260722T150000
DTSTAMP:20260423T003339
CREATED:20260403T115014Z
LAST-MODIFIED:20260423T001423Z
UID:10002976-1784710800-1784732400@utahrestaurantassociation.org
SUMMARY:ServSafe Class
DESCRIPTION:Lunch\, training\, exam\, and certificate are included.
URL:https://utahrestaurantassociation.org/event/servsafe-class-11/
LOCATION:Utah Restaurant Association\, 7324 South Union Park Avenue #201\, Midvale\, UT\, 84047\, United States
CATEGORIES:ServSafe Classes
ATTACH;FMTTYPE=image/jpeg:https://utahrestaurantassociation.org/wp-content/uploads/2026/02/serv.jpg
END:VEVENT
BEGIN:VEVENT
DTSTART;TZID=America/Denver:20260729T090000
DTEND;TZID=America/Denver:20260729T150000
DTSTAMP:20260423T003339
CREATED:20260403T115049Z
LAST-MODIFIED:20260423T001439Z
UID:10002977-1785315600-1785337200@utahrestaurantassociation.org
SUMMARY:ServSafe Class
DESCRIPTION:Lunch\, training\, exam\, and certificate are included.
URL:https://utahrestaurantassociation.org/event/servsafe-class-17/
LOCATION:Utah Restaurant Association\, 7324 South Union Park Avenue #201\, Midvale\, UT\, 84047\, United States
CATEGORIES:ServSafe Classes
ATTACH;FMTTYPE=image/jpeg:https://utahrestaurantassociation.org/wp-content/uploads/2026/02/serv.jpg
END:VEVENT
BEGIN:VEVENT
DTSTART;TZID=America/Denver:20260805T090000
DTEND;TZID=America/Denver:20260805T150000
DTSTAMP:20260423T003339
CREATED:20260403T115114Z
LAST-MODIFIED:20260423T001503Z
UID:10002978-1785920400-1785942000@utahrestaurantassociation.org
SUMMARY:ServSafe Class
DESCRIPTION:Lunch\, training\, exam\, and certificate are included.
URL:https://utahrestaurantassociation.org/event/servsafe-class-18/
LOCATION:Utah Restaurant Association\, 7324 South Union Park Avenue #201\, Midvale\, UT\, 84047\, United States
CATEGORIES:ServSafe Classes
ATTACH;FMTTYPE=image/jpeg:https://utahrestaurantassociation.org/wp-content/uploads/2026/02/serv.jpg
END:VEVENT
BEGIN:VEVENT
DTSTART;TZID=America/Denver:20260812T090000
DTEND;TZID=America/Denver:20260812T150000
DTSTAMP:20260423T003339
CREATED:20260403T115204Z
LAST-MODIFIED:20260423T001522Z
UID:10002979-1786525200-1786546800@utahrestaurantassociation.org
SUMMARY:ServSafe Class
DESCRIPTION:Lunch\, training\, exam\, and certificate are included.
URL:https://utahrestaurantassociation.org/event/servsafe-class-19/
LOCATION:Utah Restaurant Association\, 7324 South Union Park Avenue #201\, Midvale\, UT\, 84047\, United States
CATEGORIES:ServSafe Classes
ATTACH;FMTTYPE=image/jpeg:https://utahrestaurantassociation.org/wp-content/uploads/2026/02/serv.jpg
END:VEVENT
BEGIN:VEVENT
DTSTART;TZID=America/Denver:20260819T090000
DTEND;TZID=America/Denver:20260819T150000
DTSTAMP:20260423T003339
CREATED:20260403T115238Z
LAST-MODIFIED:20260423T001536Z
UID:10002980-1787130000-1787151600@utahrestaurantassociation.org
SUMMARY:ServSafe Class
DESCRIPTION:Lunch\, training\, exam\, and certificate are included.
URL:https://utahrestaurantassociation.org/event/servsafe-class-20/
LOCATION:Utah Restaurant Association\, 7324 South Union Park Avenue #201\, Midvale\, UT\, 84047\, United States
CATEGORIES:ServSafe Classes
ATTACH;FMTTYPE=image/jpeg:https://utahrestaurantassociation.org/wp-content/uploads/2026/02/serv.jpg
END:VEVENT
BEGIN:VEVENT
DTSTART;TZID=America/Denver:20260826T090000
DTEND;TZID=America/Denver:20260826T150000
DTSTAMP:20260423T003339
CREATED:20260403T115311Z
LAST-MODIFIED:20260423T001555Z
UID:10002981-1787734800-1787756400@utahrestaurantassociation.org
SUMMARY:ServSafe Class
DESCRIPTION:Lunch\, training\, exam\, and certificate are included.
URL:https://utahrestaurantassociation.org/event/servsafe-class-21/
LOCATION:Utah Restaurant Association\, 7324 South Union Park Avenue #201\, Midvale\, UT\, 84047\, United States
CATEGORIES:ServSafe Classes
ATTACH;FMTTYPE=image/jpeg:https://utahrestaurantassociation.org/wp-content/uploads/2026/02/serv.jpg
END:VEVENT
BEGIN:VEVENT
DTSTART;TZID=America/Denver:20260902T090000
DTEND;TZID=America/Denver:20260902T150000
DTSTAMP:20260423T003339
CREATED:20260403T115339Z
LAST-MODIFIED:20260423T002032Z
UID:10002982-1788339600-1788361200@utahrestaurantassociation.org
SUMMARY:ServSafe Class
DESCRIPTION:Lunch\, training\, exam\, and certificate are included.
URL:https://utahrestaurantassociation.org/event/servsafe-class-22/
LOCATION:Utah Restaurant Association\, 7324 South Union Park Avenue #201\, Midvale\, UT\, 84047\, United States
CATEGORIES:ServSafe Classes
ATTACH;FMTTYPE=image/jpeg:https://utahrestaurantassociation.org/wp-content/uploads/2026/02/serv.jpg
END:VEVENT
BEGIN:VEVENT
DTSTART;TZID=America/Denver:20260909T090000
DTEND;TZID=America/Denver:20260909T150000
DTSTAMP:20260423T003339
CREATED:20260403T115404Z
LAST-MODIFIED:20260423T002049Z
UID:10002983-1788944400-1788966000@utahrestaurantassociation.org
SUMMARY:ServSafe Class
DESCRIPTION:Lunch\, training\, exam\, and certificate are included.
URL:https://utahrestaurantassociation.org/event/servsafe-class-23/
LOCATION:Utah Restaurant Association\, 7324 South Union Park Avenue #201\, Midvale\, UT\, 84047\, United States
CATEGORIES:ServSafe Classes
ATTACH;FMTTYPE=image/jpeg:https://utahrestaurantassociation.org/wp-content/uploads/2026/02/serv.jpg
END:VEVENT
BEGIN:VEVENT
DTSTART;TZID=America/Denver:20260916T090000
DTEND;TZID=America/Denver:20260916T150000
DTSTAMP:20260423T003339
CREATED:20260403T115439Z
LAST-MODIFIED:20260423T002102Z
UID:10002985-1789549200-1789570800@utahrestaurantassociation.org
SUMMARY:ServSafe Class
DESCRIPTION:Lunch\, training\, exam\, and certificate are included.
URL:https://utahrestaurantassociation.org/event/servsafe-class-24/
LOCATION:Utah Restaurant Association\, 7324 South Union Park Avenue #201\, Midvale\, UT\, 84047\, United States
CATEGORIES:ServSafe Classes
ATTACH;FMTTYPE=image/jpeg:https://utahrestaurantassociation.org/wp-content/uploads/2026/02/serv.jpg
END:VEVENT
BEGIN:VEVENT
DTSTART;TZID=America/Denver:20260923T090000
DTEND;TZID=America/Denver:20260923T150000
DTSTAMP:20260423T003339
CREATED:20260403T115512Z
LAST-MODIFIED:20260423T002114Z
UID:10002986-1790154000-1790175600@utahrestaurantassociation.org
SUMMARY:ServSafe Class
DESCRIPTION:Lunch\, training\, exam\, and certificate are included.
URL:https://utahrestaurantassociation.org/event/servsafe-class-25/
LOCATION:Utah Restaurant Association\, 7324 South Union Park Avenue #201\, Midvale\, UT\, 84047\, United States
CATEGORIES:ServSafe Classes
ATTACH;FMTTYPE=image/jpeg:https://utahrestaurantassociation.org/wp-content/uploads/2026/02/serv.jpg
END:VEVENT
BEGIN:VEVENT
DTSTART;TZID=America/Denver:20260930T090000
DTEND;TZID=America/Denver:20260930T150000
DTSTAMP:20260423T003339
CREATED:20260403T115541Z
LAST-MODIFIED:20260423T002122Z
UID:10002987-1790758800-1790780400@utahrestaurantassociation.org
SUMMARY:ServSafe Class
DESCRIPTION:Lunch\, training\, exam\, and certificate are included.
URL:https://utahrestaurantassociation.org/event/servsafe-class-26/
LOCATION:Utah Restaurant Association\, 7324 South Union Park Avenue #201\, Midvale\, UT\, 84047\, United States
CATEGORIES:ServSafe Classes
ATTACH;FMTTYPE=image/jpeg:https://utahrestaurantassociation.org/wp-content/uploads/2026/02/serv.jpg
END:VEVENT
BEGIN:VEVENT
DTSTART;TZID=America/Denver:20261007T090000
DTEND;TZID=America/Denver:20261007T150000
DTSTAMP:20260423T003339
CREATED:20260403T115647Z
LAST-MODIFIED:20260423T002135Z
UID:10002988-1791363600-1791385200@utahrestaurantassociation.org
SUMMARY:ServSafe Class
DESCRIPTION:Lunch\, training\, exam\, and certificate are included.
URL:https://utahrestaurantassociation.org/event/servsafe-class-27/
LOCATION:Utah Restaurant Association\, 7324 South Union Park Avenue #201\, Midvale\, UT\, 84047\, United States
CATEGORIES:ServSafe Classes
ATTACH;FMTTYPE=image/jpeg:https://utahrestaurantassociation.org/wp-content/uploads/2026/02/serv.jpg
END:VEVENT
BEGIN:VEVENT
DTSTART;TZID=America/Denver:20261014T090000
DTEND;TZID=America/Denver:20261014T150000
DTSTAMP:20260423T003339
CREATED:20260403T115728Z
LAST-MODIFIED:20260423T002144Z
UID:10002989-1791968400-1791990000@utahrestaurantassociation.org
SUMMARY:ServSafe Class
DESCRIPTION:Lunch\, training\, exam\, and certificate are included.
URL:https://utahrestaurantassociation.org/event/servsafe-class-28/
LOCATION:Utah Restaurant Association\, 7324 South Union Park Avenue #201\, Midvale\, UT\, 84047\, United States
CATEGORIES:ServSafe Classes
ATTACH;FMTTYPE=image/jpeg:https://utahrestaurantassociation.org/wp-content/uploads/2026/02/serv.jpg
END:VEVENT
BEGIN:VEVENT
DTSTART;TZID=America/Denver:20261021T090000
DTEND;TZID=America/Denver:20261021T150000
DTSTAMP:20260423T003339
CREATED:20260403T115810Z
LAST-MODIFIED:20260423T002158Z
UID:10002990-1792573200-1792594800@utahrestaurantassociation.org
SUMMARY:ServSafe Class
DESCRIPTION:Lunch\, training\, exam\, and certificate are included.
URL:https://utahrestaurantassociation.org/event/servsafe-class-29/
LOCATION:Utah Restaurant Association\, 7324 South Union Park Avenue #201\, Midvale\, UT\, 84047\, United States
CATEGORIES:ServSafe Classes
ATTACH;FMTTYPE=image/jpeg:https://utahrestaurantassociation.org/wp-content/uploads/2026/02/serv.jpg
END:VEVENT
BEGIN:VEVENT
DTSTART;TZID=America/Denver:20261028T090000
DTEND;TZID=America/Denver:20261028T150000
DTSTAMP:20260423T003339
CREATED:20260403T115855Z
LAST-MODIFIED:20260423T002213Z
UID:10002991-1793178000-1793199600@utahrestaurantassociation.org
SUMMARY:ServSafe Class
DESCRIPTION:Lunch\, training\, exam\, and certificate are included.
URL:https://utahrestaurantassociation.org/event/servsafe-class-30/
LOCATION:Utah Restaurant Association\, 7324 South Union Park Avenue #201\, Midvale\, UT\, 84047\, United States
CATEGORIES:ServSafe Classes
ATTACH;FMTTYPE=image/jpeg:https://utahrestaurantassociation.org/wp-content/uploads/2026/02/serv.jpg
END:VEVENT
BEGIN:VEVENT
DTSTART;TZID=America/Denver:20261104T090000
DTEND;TZID=America/Denver:20261104T150000
DTSTAMP:20260423T003339
CREATED:20260403T120201Z
LAST-MODIFIED:20260423T002229Z
UID:10002992-1793782800-1793804400@utahrestaurantassociation.org
SUMMARY:ServSafe Class
DESCRIPTION:Lunch\, training\, exam\, and certificate are included.
URL:https://utahrestaurantassociation.org/event/servsafe-class-31/
LOCATION:Utah Restaurant Association\, 7324 South Union Park Avenue #201\, Midvale\, UT\, 84047\, United States
CATEGORIES:ServSafe Classes
ATTACH;FMTTYPE=image/jpeg:https://utahrestaurantassociation.org/wp-content/uploads/2026/02/serv.jpg
END:VEVENT
BEGIN:VEVENT
DTSTART;TZID=America/Denver:20261111T090000
DTEND;TZID=America/Denver:20261111T150000
DTSTAMP:20260423T003339
CREATED:20260403T120231Z
LAST-MODIFIED:20260423T003213Z
UID:10002993-1794387600-1794409200@utahrestaurantassociation.org
SUMMARY:ServSafe Class
DESCRIPTION:Lunch\, training\, exam\, and certificate are included.
URL:https://utahrestaurantassociation.org/event/servsafe-class-32/
LOCATION:Utah Restaurant Association\, 7324 South Union Park Avenue #201\, Midvale\, UT\, 84047\, United States
CATEGORIES:ServSafe Classes
ATTACH;FMTTYPE=image/jpeg:https://utahrestaurantassociation.org/wp-content/uploads/2026/02/serv.jpg
END:VEVENT
BEGIN:VEVENT
DTSTART;TZID=America/Denver:20261118T090000
DTEND;TZID=America/Denver:20261118T150000
DTSTAMP:20260423T003339
CREATED:20260403T120304Z
LAST-MODIFIED:20260423T003213Z
UID:10002994-1794992400-1795014000@utahrestaurantassociation.org
SUMMARY:ServSafe Class
DESCRIPTION:Lunch\, training\, exam\, and certificate are included.
URL:https://utahrestaurantassociation.org/event/servsafe-class-33/
LOCATION:Utah Restaurant Association\, 7324 South Union Park Avenue #201\, Midvale\, UT\, 84047\, United States
CATEGORIES:ServSafe Classes
ATTACH;FMTTYPE=image/jpeg:https://utahrestaurantassociation.org/wp-content/uploads/2026/02/serv.jpg
END:VEVENT
END:VCALENDAR